BEGIN:VCALENDAR
VERSION:2.0
PRODID:-//Shri Ram Mandir Japan - ECPv6.15.17.1//NONSGML v1.0//EN
CALSCALE:GREGORIAN
METHOD:PUBLISH
X-ORIGINAL-URL:https://shrirammandirjapan.com
X-WR-CALDESC:Events for Shri Ram Mandir Japan
REFRESH-INTERVAL;VALUE=DURATION:PT1H
X-Robots-Tag:noindex
X-PUBLISHED-TTL:PT1H
BEGIN:VTIMEZONE
TZID:Asia/Tokyo
BEGIN:STANDARD
TZOFFSETFROM:+0900
TZOFFSETTO:+0900
TZNAME:JST
DTSTART:20230101T000000
END:STANDARD
END:VTIMEZONE
BEGIN:VEVENT
DTSTART;TZID=Asia/Tokyo:20240218T093000
DTEND;TZID=Asia/Tokyo:20240218T170000
DTSTAMP:20260419T233713
CREATED:20240120T110647Z
LAST-MODIFIED:20240219T113310Z
UID:6996-1708248600-1708275600@shrirammandirjapan.com
SUMMARY:Basant Panchami Celebration Sunday\, February 18\, 2024
DESCRIPTION:Join us for the Auspicious Occasion of Basant Panchami \nEvent Details: \n\nPuja Havan: 09:30 AM to 11:00 AM Immerse yourself in the divine atmosphere as we commence the day with sacred rituals and prayers.\nBhajan / Kirtan: 11:00 AM to 11:45 AM Let the soul-stirring melodies of devotional songs fill the air\, creating an atmosphere of spiritual bliss.\nAarti: 11:45 AM to 12:00 PM Witness the enchanting Aarti\, a moment of profound connection with the divine\, invoking blessings for all.\nBhandara: 12:00 PM Onwards Join us for a community feast\, fostering camaraderie and sharing the joy of the festival together.\n\nYour presence will add to the grace of this joyous occasion. Come\, celebrate Basant Panchami with us as we embrace the arrival of spring and invoke the blessings of knowledge\, art\, and prosperity.
URL:https://shrirammandirjapan.com/event/basant-panchami-celebration-sunday-february-18-2024/
LOCATION:Shri Ram Mandir Bando Ibarakiken\, 54-2 Sugaya\, Bando\, Ibaraki\, 3060505\, Japan
CATEGORIES:Past Events
ATTACH;FMTTYPE=image/jpeg:https://shrirammandirjapan.com/wp-content/uploads/2024/01/Bashant-Punchami.jpg
ORGANIZER;CN="Shri Ram Mandir Bando Trust":MAILTO:info@shrirammandirjapan.com
END:VEVENT
END:VCALENDAR